BEGIN:VCALENDAR
VERSION:2.0
METHOD:PUBLISH
PRODID:-//Agenda.ad//NONSGML v1.0//EN
BEGIN:VEVENT
CLASS:PUBLIC
UID:680eaa51db2c1ef1491360298bcbbb76@agenda.ad
DTSTAMP:20260419T190330Z
DTSTART:20260310T230000Z
DTEND:20260310T230000Z
SUMMARY:<h1 class="titol--gran"><span id="activitat__titol">Presentaci&oacute; de la revista&nbsp;<em>Enderrock. Escena andorrana</em></span></h1>
DESCRIPTION:\n\nMés informació\nhttps://www.agenda.ad/activitat/ordino
 /musica/presentacio-de-la-revista enderrock-escena-andorran
 a\n\n\nOrganitza\nGovern d'Andorra
LOCATION:Auditori Nacional d'Andorra
SEQUENCE:0
TRANSP:OPAQUE
X-ALT-DESC;FMTTYPE=text/html:<!DOCTYPE HTML PUBLIC "-//W3C//DTD HTML 3.2//EN"><HTML><HEAD
 ><TITLE></TITLE></HEAD><BODY><FONT FACE="Arial" SIZE=2><br/>
 <br/><b>Més informació</b><br/><a href="https://www.agenda
 .ad/activitat/ordino/musica/presentacio-de-la-revista ender
 rock-escena-andorrana">https://www.agenda.ad/activitat/ordin
 o/musica/presentacio-de-la-revista enderrock-escena-andorra
 na</a><br/><br/><br/><b>Organitza</b><br/>Govern d'Andorra</
 FONT></BODY></HTML>
END:VEVENT
END:VCALENDAR